BEGIN:VCALENDAR
VERSION:2.0
PRODID:-//Platz 11 - das Tennis Clubhaus - ECPv6.15.18//NONSGML v1.0//EN
CALSCALE:GREGORIAN
METHOD:PUBLISH
X-ORIGINAL-URL:https://platz-elf.de
X-WR-CALDESC:Veranstaltungen für Platz 11 - das Tennis Clubhaus
REFRESH-INTERVAL;VALUE=DURATION:PT1H
X-Robots-Tag:noindex
X-PUBLISHED-TTL:PT1H
BEGIN:VTIMEZONE
TZID:UTC
BEGIN:STANDARD
TZOFFSETFROM:+0000
TZOFFSETTO:+0000
TZNAME:UTC
DTSTART:20230101T000000
END:STANDARD
END:VTIMEZONE
BEGIN:VEVENT
DTSTART;VALUE=DATE:20260221
DTEND;VALUE=DATE:20260222
DTSTAMP:20260425T175319
CREATED:20251215T132529Z
LAST-MODIFIED:20251215T132529Z
UID:230357-1771632000-1771718399@platz-elf.de
SUMMARY:geschlossene Gesellschaft
DESCRIPTION:
URL:https://platz-elf.de/event/geschlossene-gesellschaft-26/
END:VEVENT
BEGIN:VEVENT
DTSTART;VALUE=DATE:20260116
DTEND;VALUE=DATE:20260117
DTSTAMP:20260425T175319
CREATED:20251215T132448Z
LAST-MODIFIED:20251215T132448Z
UID:230355-1768521600-1768607999@platz-elf.de
SUMMARY:geschlossene Gesellschaft
DESCRIPTION:
URL:https://platz-elf.de/event/geschlossene-gesellschaft-25/
END:VEVENT
BEGIN:VEVENT
DTSTART;VALUE=DATE:20251220
DTEND;VALUE=DATE:20251221
DTSTAMP:20260425T175319
CREATED:20251215T132331Z
LAST-MODIFIED:20251215T132331Z
UID:230353-1766188800-1766275199@platz-elf.de
SUMMARY:geschlossene Gesellschaft
DESCRIPTION:
URL:https://platz-elf.de/event/geschlossene-gesellschaft-24/
END:VEVENT
BEGIN:VEVENT
DTSTART;VALUE=DATE:20251128
DTEND;VALUE=DATE:20251129
DTSTAMP:20260425T175319
CREATED:20251215T132221Z
LAST-MODIFIED:20251215T133532Z
UID:230351-1764288000-1764374399@platz-elf.de
SUMMARY:geschlossene Gesellschaft
DESCRIPTION:
URL:https://platz-elf.de/event/geschlossene-gesellschaft-23/
END:VEVENT
BEGIN:VEVENT
DTSTART;VALUE=DATE:20251122
DTEND;VALUE=DATE:20251123
DTSTAMP:20260425T175319
CREATED:20251215T132147Z
LAST-MODIFIED:20251215T133550Z
UID:230349-1763769600-1763855999@platz-elf.de
SUMMARY:geschlossene Gesellschaft
DESCRIPTION:
URL:https://platz-elf.de/event/geschlossene-gesellschaft-22/
END:VEVENT
BEGIN:VEVENT
DTSTART;VALUE=DATE:20251121
DTEND;VALUE=DATE:20251122
DTSTAMP:20260425T175319
CREATED:20251215T132118Z
LAST-MODIFIED:20251215T133616Z
UID:230347-1763683200-1763769599@platz-elf.de
SUMMARY:geschlossene Gesellschaft
DESCRIPTION:
URL:https://platz-elf.de/event/geschlossene-gesellschaft-21/
END:VEVENT
BEGIN:VEVENT
DTSTART;VALUE=DATE:20251112
DTEND;VALUE=DATE:20251121
DTSTAMP:20260425T175319
CREATED:20251215T132045Z
LAST-MODIFIED:20251215T132045Z
UID:230345-1762905600-1763683199@platz-elf.de
SUMMARY:Wir machen Urlaub...
DESCRIPTION:
URL:https://platz-elf.de/event/wir-machen-urlaub-2/
END:VEVENT
BEGIN:VEVENT
DTSTART;TZID=UTC:20251025T180000
DTEND;TZID=UTC:20251025T233000
DTSTAMP:20260425T175319
CREATED:20251215T131849Z
LAST-MODIFIED:20251215T131849Z
UID:230343-1761415200-1761435000@platz-elf.de
SUMMARY:Saisonabschlussfeier Tennisabteilung DSC Preußen
DESCRIPTION:
URL:https://platz-elf.de/event/saisonabschlussfeier-tennisabteilung-dsc-preussen/
END:VEVENT
BEGIN:VEVENT
DTSTART;TZID=UTC:20251005T110000
DTEND;TZID=UTC:20251005T180000
DTSTAMP:20260425T175319
CREATED:20251215T131725Z
LAST-MODIFIED:20251215T131725Z
UID:230341-1759662000-1759687200@platz-elf.de
SUMMARY:Oktoberfest Königreich Duissern
DESCRIPTION:
URL:https://platz-elf.de/event/oktoberfest-koenigreich-duissern-2/
END:VEVENT
BEGIN:VEVENT
DTSTART;VALUE=DATE:20251003
DTEND;VALUE=DATE:20251004
DTSTAMP:20260425T175319
CREATED:20251215T131647Z
LAST-MODIFIED:20251215T133635Z
UID:230339-1759449600-1759535999@platz-elf.de
SUMMARY:geschlossene Gesellschaft
DESCRIPTION:
URL:https://platz-elf.de/event/geschlossene-gesellschaft-20/
END:VEVENT
BEGIN:VEVENT
DTSTART;TZID=UTC:20250927T080000
DTEND;TZID=UTC:20250927T170000
DTSTAMP:20260425T175319
CREATED:20251215T131616Z
LAST-MODIFIED:20251215T131616Z
UID:230337-1758960000-1758992400@platz-elf.de
SUMMARY:türkischer Abend
DESCRIPTION:
URL:https://platz-elf.de/event/tuerkischer-abend-2/
END:VEVENT
BEGIN:VEVENT
DTSTART;TZID=UTC:20250921T120000
DTEND;TZID=UTC:20250921T150000
DTSTAMP:20260425T175319
CREATED:20251215T131545Z
LAST-MODIFIED:20251215T131545Z
UID:230335-1758456000-1758466800@platz-elf.de
SUMMARY:geschlossene Gesellschaft
DESCRIPTION:
URL:https://platz-elf.de/event/geschlossene-gesellschaft-19/
END:VEVENT
BEGIN:VEVENT
DTSTART;TZID=UTC:20250829T080000
DTEND;TZID=UTC:20250829T170000
DTSTAMP:20260425T175319
CREATED:20251215T131413Z
LAST-MODIFIED:20251215T131413Z
UID:230333-1756454400-1756486800@platz-elf.de
SUMMARY:geschlossene Gesellschaft
DESCRIPTION:
URL:https://platz-elf.de/event/geschlossene-gesellschaft-18/
END:VEVENT
BEGIN:VEVENT
DTSTART;TZID=UTC:20250822T180000
DTEND;TZID=UTC:20250822T230000
DTSTAMP:20260425T175319
CREATED:20251215T131341Z
LAST-MODIFIED:20251215T131341Z
UID:230331-1755885600-1755903600@platz-elf.de
SUMMARY:geschlossene Gesellschaft
DESCRIPTION:
URL:https://platz-elf.de/event/geschlossene-gesellschaft-17/
END:VEVENT
BEGIN:VEVENT
DTSTART;TZID=UTC:20250627T080000
DTEND;TZID=UTC:20250627T170000
DTSTAMP:20260425T175319
CREATED:20251215T131100Z
LAST-MODIFIED:20251215T131100Z
UID:230329-1751011200-1751043600@platz-elf.de
SUMMARY:geschlossene Gesellschaft
DESCRIPTION:
URL:https://platz-elf.de/event/geschlossene-gesellschaft-16/
END:VEVENT
BEGIN:VEVENT
DTSTART;TZID=UTC:20250606T080000
DTEND;TZID=UTC:20250606T170000
DTSTAMP:20260425T175319
CREATED:20251215T130957Z
LAST-MODIFIED:20251215T130957Z
UID:230327-1749196800-1749229200@platz-elf.de
SUMMARY:geschlossene Gesellschaft
DESCRIPTION:
URL:https://platz-elf.de/event/geschlossene-gesellschaft-15/
END:VEVENT
BEGIN:VEVENT
DTSTART;TZID=UTC:20250516T190000
DTEND;TZID=UTC:20250516T220000
DTSTAMP:20260425T175319
CREATED:20251215T130844Z
LAST-MODIFIED:20251215T130844Z
UID:230325-1747422000-1747432800@platz-elf.de
SUMMARY:JHV Königreich Duissern - nur für deren Mitglieder
DESCRIPTION:
URL:https://platz-elf.de/event/jhv-koenigreich-duissern-nur-fuer-deren-mitglieder/
END:VEVENT
BEGIN:VEVENT
DTSTART;TZID=UTC:20250427T110000
DTEND;TZID=UTC:20250427T200000
DTSTAMP:20260425T175319
CREATED:20251215T130650Z
LAST-MODIFIED:20251215T130650Z
UID:230323-1745751600-1745784000@platz-elf.de
SUMMARY:Tag der offenen Tür und Saisoneröffnung
DESCRIPTION:
URL:https://platz-elf.de/event/tag-der-offenen-tuer-und-saisoneroeffnung/
END:VEVENT
BEGIN:VEVENT
DTSTART;TZID=UTC:20250330T100000
DTEND;TZID=UTC:20250330T140000
DTSTAMP:20260425T175319
CREATED:20251215T130308Z
LAST-MODIFIED:20251215T130308Z
UID:230319-1743328800-1743343200@platz-elf.de
SUMMARY:JHV Kleingartenverein - nur für deren Mitglieder
DESCRIPTION:
URL:https://platz-elf.de/event/jhv-kleingartenverein-nur-fuer-deren-mitglieder/
END:VEVENT
BEGIN:VEVENT
DTSTART;TZID=UTC:20250329T080000
DTEND;TZID=UTC:20250329T170000
DTSTAMP:20260425T175319
CREATED:20251215T130225Z
LAST-MODIFIED:20251215T130225Z
UID:230317-1743235200-1743267600@platz-elf.de
SUMMARY:geschlossene Gesellschaft
DESCRIPTION:
URL:https://platz-elf.de/event/geschlossene-gesellschaft-13/
END:VEVENT
BEGIN:VEVENT
DTSTART;TZID=UTC:20250318T080000
DTEND;TZID=UTC:20250318T170000
DTSTAMP:20260425T175319
CREATED:20251215T130135Z
LAST-MODIFIED:20251215T130135Z
UID:230315-1742284800-1742317200@platz-elf.de
SUMMARY:geschlossene Gesellschaft
DESCRIPTION:
URL:https://platz-elf.de/event/geschlossene-gesellschaft-12/
END:VEVENT
BEGIN:VEVENT
DTSTART;TZID=UTC:20250316T120000
DTEND;TZID=UTC:20250316T150000
DTSTAMP:20260425T175319
CREATED:20251215T130102Z
LAST-MODIFIED:20251215T130102Z
UID:230313-1742126400-1742137200@platz-elf.de
SUMMARY:JHV Tennisabteilung - nur für Mitglieder
DESCRIPTION:
URL:https://platz-elf.de/event/jhv-tennisabteilung-nur-fuer-mitglieder/
END:VEVENT
BEGIN:VEVENT
DTSTART;TZID=UTC:20250315T080000
DTEND;TZID=UTC:20250315T170000
DTSTAMP:20260425T175319
CREATED:20251215T125937Z
LAST-MODIFIED:20251215T125937Z
UID:230311-1742025600-1742058000@platz-elf.de
SUMMARY:geschlossene Gesellschaft
DESCRIPTION:
URL:https://platz-elf.de/event/geschlossene-gesellschaft-11/
END:VEVENT
BEGIN:VEVENT
DTSTART;TZID=UTC:20241226T170000
DTEND;TZID=UTC:20241226T230000
DTSTAMP:20260425T175319
CREATED:20241211T125127Z
LAST-MODIFIED:20241211T125127Z
UID:230303-1735232400-1735254000@platz-elf.de
SUMMARY:Spieleabend
DESCRIPTION:
URL:https://platz-elf.de/event/spieleabend/
END:VEVENT
BEGIN:VEVENT
DTSTART;VALUE=DATE:20241221
DTEND;VALUE=DATE:20241222
DTSTAMP:20260425T175319
CREATED:20241115T093804Z
LAST-MODIFIED:20241115T093804Z
UID:230299-1734739200-1734825599@platz-elf.de
SUMMARY:geschlossene Gesellschaft
DESCRIPTION:
URL:https://platz-elf.de/event/geschlossene-gesellschaft-10/
END:VEVENT
BEGIN:VEVENT
DTSTART;VALUE=DATE:20241129
DTEND;VALUE=DATE:20241130
DTSTAMP:20260425T175319
CREATED:20241115T093730Z
LAST-MODIFIED:20241115T093730Z
UID:230297-1732838400-1732924799@platz-elf.de
SUMMARY:geschlossene Gesellschaft
DESCRIPTION:
URL:https://platz-elf.de/event/geschlossene-gesellschaft-9/
END:VEVENT
BEGIN:VEVENT
DTSTART;TZID=UTC:20241108T183000
DTEND;TZID=UTC:20241108T233000
DTSTAMP:20260425T175319
CREATED:20240812T071303Z
LAST-MODIFIED:20241008T134104Z
UID:230259-1731090600-1731108600@platz-elf.de
SUMMARY:Türkischer Abend - öffentliche Veranstaltung !
DESCRIPTION:
URL:https://platz-elf.de/event/tuerkischer-abend-oeffentliche-veranstaltung/
END:VEVENT
BEGIN:VEVENT
DTSTART;VALUE=DATE:20241102
DTEND;VALUE=DATE:20241103
DTSTAMP:20260425T175319
CREATED:20240109T121024Z
LAST-MODIFIED:20240109T121024Z
UID:230157-1730505600-1730591999@platz-elf.de
SUMMARY:geschlossene Gesellschaft
DESCRIPTION:
URL:https://platz-elf.de/event/geschlossene-gesellschaft-5/
END:VEVENT
BEGIN:VEVENT
DTSTART;TZID=UTC:20241026T180000
DTEND;TZID=UTC:20241026T233000
DTSTAMP:20260425T175319
CREATED:20240109T120959Z
LAST-MODIFIED:20240109T120959Z
UID:230154-1729965600-1729985400@platz-elf.de
SUMMARY:Saisonabschlußparty
DESCRIPTION:Save the date… 🙂
URL:https://platz-elf.de/event/saisonabschlussparty-2/
END:VEVENT
BEGIN:VEVENT
DTSTART;TZID=UTC:20240914T170000
DTEND;TZID=UTC:20240914T233000
DTSTAMP:20260425T175319
CREATED:20240812T071126Z
LAST-MODIFIED:20240812T071126Z
UID:230257-1726333200-1726356600@platz-elf.de
SUMMARY:geschlossene Gesellschaft IM Clubhaus - Terrasse geöffnet !!
DESCRIPTION:
URL:https://platz-elf.de/event/geschlossene-gesellschaft-im-clubhaus-terrasse-geoeffnet-3/
END:VEVENT
END:VCALENDAR